BEGIN:VCALENDAR
VERSION:2.0
PRODID:-//ADF 315 la Carrerada - ECPv5.1.6//NONSGML v1.0//EN
CALSCALE:GREGORIAN
METHOD:PUBLISH
X-WR-CALNAME:ADF 315 la Carrerada
X-ORIGINAL-URL:https://www.adflacarrerada.cat
X-WR-CALDESC:Esdeveniments per ADF 315 la Carrerada
BEGIN:VTIMEZONE
TZID:Europe/Madrid
BEGIN:DAYLIGHT
TZOFFSETFROM:+0100
TZOFFSETTO:+0200
TZNAME:CEST
DTSTART:20230326T010000
END:DAYLIGHT
BEGIN:STANDARD
TZOFFSETFROM:+0200
TZOFFSETTO:+0100
TZNAME:CET
DTSTART:20231029T010000
END:STANDARD
END:VTIMEZONE
BEGIN:VEVENT
DTSTART;TZID=Europe/Madrid:20230730T233000
DTEND;TZID=Europe/Madrid:20230731T000000
DTSTAMP:20260425T230450
CREATED:20230713T125512Z
LAST-MODIFIED:20230713T125535Z
UID:1980-1690759800-1690761600@www.adflacarrerada.cat
SUMMARY:Castell focs Espirall\, a les 12h nit. Local 23\,30h
DESCRIPTION:Calen 2 pers. \nApuntats: \nCurrently Registered(E) Cristian Petit Hidalgo Marc Viñals
URL:https://www.adflacarrerada.cat/zona-membre-calendari/castell-focs-espirall-a-les-12h-nit-local-1130h/
END:VEVENT
END:VCALENDAR