BEGIN:VCALENDAR
VERSION:2.0
PRODID:-//ADF 315 la Carrerada - ECPv5.1.6//NONSGML v1.0//EN
CALSCALE:GREGORIAN
METHOD:PUBLISH
X-WR-CALNAME:ADF 315 la Carrerada
X-ORIGINAL-URL:https://www.adflacarrerada.cat
X-WR-CALDESC:Esdeveniments per ADF 315 la Carrerada
BEGIN:VTIMEZONE
TZID:Europe/Paris
BEGIN:DAYLIGHT
TZOFFSETFROM:+0100
TZOFFSETTO:+0200
TZNAME:CEST
DTSTART:20240331T010000
END:DAYLIGHT
BEGIN:STANDARD
TZOFFSETFROM:+0200
TZOFFSETTO:+0100
TZNAME:CET
DTSTART:20241027T010000
END:STANDARD
END:VTIMEZONE
BEGIN:VEVENT
DTSTART;TZID=Europe/Paris:20240225T080000
DTEND;TZID=Europe/Paris:20240225T170000
DTSTAMP:20260424T233646
CREATED:20240219T204633Z
LAST-MODIFIED:20240219T204633Z
UID:2085-1708848000-1708880400@www.adflacarrerada.cat
SUMMARY:Entre vinyes
DESCRIPTION:Activitat: Donar suport en punts on la gent podría perdre track del recorregut. \nLa hora que s’ha quedat amb Protecció Civil és a les 8 del matí a les pistes.\nSi esteu interessats en anar a la sortida us hauríeu de coordinar per WhatsApp per anar al local i agafar material + vehicle. \nCurrently Registered(E) Roberto Cascales López Celia Celia \n 
URL:https://www.adflacarrerada.cat/zona-membre-calendari/entre-vinyes/
END:VEVENT
END:VCALENDAR