BEGIN:VCALENDAR
VERSION:2.0
PRODID:-//ADF 315 la Carrerada - ECPv5.1.6//NONSGML v1.0//EN
CALSCALE:GREGORIAN
METHOD:PUBLISH
X-WR-CALNAME:ADF 315 la Carrerada
X-ORIGINAL-URL:https://www.adflacarrerada.cat
X-WR-CALDESC:Esdeveniments per ADF 315 la Carrerada
BEGIN:VTIMEZONE
TZID:Europe/Paris
BEGIN:DAYLIGHT
TZOFFSETFROM:+0100
TZOFFSETTO:+0200
TZNAME:CEST
DTSTART:20240331T010000
END:DAYLIGHT
BEGIN:STANDARD
TZOFFSETFROM:+0200
TZOFFSETTO:+0100
TZNAME:CET
DTSTART:20241027T010000
END:STANDARD
END:VTIMEZONE
BEGIN:VEVENT
DTSTART;TZID=Europe/Paris:20240519T160000
DTEND;TZID=Europe/Paris:20240519T200000
DTSTAMP:20260424T105911
CREATED:20240420T200454Z
LAST-MODIFIED:20240507T153209Z
UID:2115-1716134400-1716148800@www.adflacarrerada.cat
SUMMARY:Fires de maig. Diumenge tarda + desmuntar
DESCRIPTION:Jornada de tarda \nTaller infantil de bombes de llavors. ADF \nCurrently RegisteredDaniel Llopart Padilla Martí Pérez
URL:https://www.adflacarrerada.cat/zona-membre-calendari/fires-de-maig-7/
END:VEVENT
END:VCALENDAR