BEGIN:VCALENDAR
VERSION:2.0
PRODID:-//ADF 315 la Carrerada - ECPv5.1.6//NONSGML v1.0//EN
CALSCALE:GREGORIAN
METHOD:PUBLISH
X-WR-CALNAME:ADF 315 la Carrerada
X-ORIGINAL-URL:https://www.adflacarrerada.cat
X-WR-CALDESC:Esdeveniments per ADF 315 la Carrerada
BEGIN:VTIMEZONE
TZID:Europe/Paris
BEGIN:DAYLIGHT
TZOFFSETFROM:+0100
TZOFFSETTO:+0200
TZNAME:CEST
DTSTART:20240331T010000
END:DAYLIGHT
BEGIN:STANDARD
TZOFFSETFROM:+0200
TZOFFSETTO:+0100
TZNAME:CET
DTSTART:20241027T010000
END:STANDARD
END:VTIMEZONE
BEGIN:VEVENT
DTSTART;TZID=Europe/Paris:20240517T160000
DTEND;TZID=Europe/Paris:20240517T200000
DTSTAMP:20260424T173152
CREATED:20240420T185121Z
LAST-MODIFIED:20240502T175806Z
UID:2103-1715961600-1715976000@www.adflacarrerada.cat
SUMMARY:Fires de maig (Divendres tarda)
DESCRIPTION:Jornada de tarda \nActivitat de menjadores d’ocells a càrrec de l’ADF 315 a càrrec de Tere i Esther. \nCurrently Registered(VP) Isabel Torrents Sala Tere Arribas Martínez Esther Blanch
URL:https://www.adflacarrerada.cat/zona-membre-calendari/fires-de-maig-tarda-4/
END:VEVENT
END:VCALENDAR