BEGIN:VCALENDAR
VERSION:2.0
PRODID:-//ADF 315 la Carrerada - ECPv5.1.6//NONSGML v1.0//EN
CALSCALE:GREGORIAN
METHOD:PUBLISH
X-WR-CALNAME:ADF 315 la Carrerada
X-ORIGINAL-URL:https://www.adflacarrerada.cat
X-WR-CALDESC:Esdeveniments per ADF 315 la Carrerada
BEGIN:VTIMEZONE
TZID:Europe/Madrid
BEGIN:DAYLIGHT
TZOFFSETFROM:+0100
TZOFFSETTO:+0200
TZNAME:CEST
DTSTART:20230326T010000
END:DAYLIGHT
BEGIN:STANDARD
TZOFFSETFROM:+0200
TZOFFSETTO:+0100
TZNAME:CET
DTSTART:20231029T010000
END:STANDARD
END:VTIMEZONE
BEGIN:VEVENT
DTSTART;TZID=Europe/Madrid:20230901T203000
DTEND;TZID=Europe/Madrid:20230901T233000
DTSTAMP:20260425T135635
CREATED:20230801T054233Z
LAST-MODIFIED:20230801T054233Z
UID:1996-1693600200-1693611000@www.adflacarrerada.cat
SUMMARY:FM dia 1. Ball de Foc\, 20\,30h Local
DESCRIPTION:Calen entre 5 i 7 persones. \nApuntats: \nCurrently RegisteredIgnasi Fernández Aubareda Oriol Bolet Rodón Gerard Vicente (E) David Lopera González Marti Gisbert
URL:https://www.adflacarrerada.cat/zona-membre-calendari/fm-dia-1-ball-de-foc-2030h-local-2/
END:VEVENT
END:VCALENDAR