BEGIN:VCALENDAR
VERSION:2.0
PRODID:-//ADF 315 la Carrerada - ECPv5.1.6//NONSGML v1.0//EN
CALSCALE:GREGORIAN
METHOD:PUBLISH
X-WR-CALNAME:ADF 315 la Carrerada
X-ORIGINAL-URL:https://www.adflacarrerada.cat
X-WR-CALDESC:Esdeveniments per ADF 315 la Carrerada
BEGIN:VTIMEZONE
TZID:Europe/Madrid
BEGIN:DAYLIGHT
TZOFFSETFROM:+0100
TZOFFSETTO:+0200
TZNAME:CEST
DTSTART:20230326T010000
END:DAYLIGHT
BEGIN:STANDARD
TZOFFSETFROM:+0200
TZOFFSETTO:+0100
TZNAME:CET
DTSTART:20231029T010000
END:STANDARD
END:VTIMEZONE
BEGIN:VEVENT
DTSTART;TZID=Europe/Madrid:20230829T113000
DTEND;TZID=Europe/Madrid:20230829T123000
DTSTAMP:20260425T213407
CREATED:20230801T053724Z
LAST-MODIFIED:20230801T053844Z
UID:1985-1693308600-1693312200@www.adflacarrerada.cat
SUMMARY:FM dia 29. Tronada\, 11\,30h Local
DESCRIPTION:Calen 2 persones. \nApuntats: \nCurrently Registered(E) Roberto Cascales López (VP) Jordi Casado Moreno (E) Cristian Petit Hidalgo
URL:https://www.adflacarrerada.cat/zona-membre-calendari/fm-dia-29-tronada-1130h-local-2/
END:VEVENT
END:VCALENDAR