BEGIN:VCALENDAR
VERSION:2.0
PRODID:-//ADF 315 la Carrerada - ECPv5.1.6//NONSGML v1.0//EN
CALSCALE:GREGORIAN
METHOD:PUBLISH
X-WR-CALNAME:ADF 315 la Carrerada
X-ORIGINAL-URL:https://www.adflacarrerada.cat
X-WR-CALDESC:Esdeveniments per ADF 315 la Carrerada
BEGIN:VTIMEZONE
TZID:Europe/Madrid
BEGIN:DAYLIGHT
TZOFFSETFROM:+0100
TZOFFSETTO:+0200
TZNAME:CEST
DTSTART:20230326T010000
END:DAYLIGHT
BEGIN:STANDARD
TZOFFSETFROM:+0200
TZOFFSETTO:+0100
TZNAME:CET
DTSTART:20231029T010000
END:STANDARD
END:VTIMEZONE
BEGIN:VEVENT
DTSTART;TZID=Europe/Madrid:20230831T193000
DTEND;TZID=Europe/Madrid:20230831T233000
DTSTAMP:20260425T152633
CREATED:20230801T054125Z
LAST-MODIFIED:20230801T054125Z
UID:1994-1693510200-1693524600@www.adflacarrerada.cat
SUMMARY:FM dia 31. Processó\, 19\,30h Local
DESCRIPTION:Calen 3 persones. \nApuntats: \nCurrently RegisteredLluís Bolet Rodón (E) Josep Jané Iniesta
URL:https://www.adflacarrerada.cat/zona-membre-calendari/fm-dia-31-processo-1930h-local-2/
END:VEVENT
END:VCALENDAR