BEGIN:VCALENDAR
VERSION:2.0
PRODID:-//ADF 315 la Carrerada - ECPv5.1.6//NONSGML v1.0//EN
CALSCALE:GREGORIAN
METHOD:PUBLISH
X-WR-CALNAME:ADF 315 la Carrerada
X-ORIGINAL-URL:https://www.adflacarrerada.cat
X-WR-CALDESC:Esdeveniments per ADF 315 la Carrerada
BEGIN:VTIMEZONE
TZID:Europe/Madrid
BEGIN:DAYLIGHT
TZOFFSETFROM:+0100
TZOFFSETTO:+0200
TZNAME:CEST
DTSTART:20240331T010000
END:DAYLIGHT
BEGIN:STANDARD
TZOFFSETFROM:+0200
TZOFFSETTO:+0100
TZNAME:CET
DTSTART:20241027T010000
END:STANDARD
END:VTIMEZONE
BEGIN:VEVENT
DTSTART;TZID=Europe/Madrid:20240831T193000
DTEND;TZID=Europe/Madrid:20240831T233000
DTSTAMP:20260421T194628
CREATED:20240706T070400Z
LAST-MODIFIED:20240706T070400Z
UID:2172-1725132600-1725147000@www.adflacarrerada.cat
SUMMARY:FM dia 31. Processó. 19\,30h Local
DESCRIPTION:Calen mínim 3 persones. \nApuntats: \nCurrently RegisteredEsther Blanch (E) Josep Jané Iniesta Ignasi Fernandez Aubareda
URL:https://www.adflacarrerada.cat/zona-membre-calendari/fm-dia-31-processo-1930h-local-3/
END:VEVENT
END:VCALENDAR