BEGIN:VCALENDAR
VERSION:2.0
PRODID:-//ADF 315 la Carrerada - ECPv5.1.6//NONSGML v1.0//EN
CALSCALE:GREGORIAN
METHOD:PUBLISH
X-WR-CALNAME:ADF 315 la Carrerada
X-ORIGINAL-URL:https://www.adflacarrerada.cat
X-WR-CALDESC:Esdeveniments per ADF 315 la Carrerada
BEGIN:VTIMEZONE
TZID:Europe/Paris
BEGIN:DAYLIGHT
TZOFFSETFROM:+0100
TZOFFSETTO:+0200
TZNAME:CEST
DTSTART:20250330T010000
END:DAYLIGHT
BEGIN:STANDARD
TZOFFSETFROM:+0200
TZOFFSETTO:+0100
TZNAME:CET
DTSTART:20251026T010000
END:STANDARD
END:VTIMEZONE
BEGIN:VEVENT
DTSTART;TZID=Europe/Paris:20250305T190000
DTEND;TZID=Europe/Paris:20250305T210000
DTSTAMP:20260421T104624
CREATED:20250215T161922Z
LAST-MODIFIED:20250215T161922Z
UID:2215-1741201200-1741208400@www.adflacarrerada.cat
SUMMARY:Pira Rei Carnestoltes
DESCRIPTION:Vespre. Hora per concretar. \nApuntats: \nCurrently RegisteredEsther Blanch Gallego Ignasi Fernández Aubareda
URL:https://www.adflacarrerada.cat/zona-membre-calendari/pira-rei-carnestoltes/
END:VEVENT
END:VCALENDAR