BEGIN:VCALENDAR
VERSION:2.0
PRODID:-//ADF 315 la Carrerada - ECPv5.1.6//NONSGML v1.0//EN
CALSCALE:GREGORIAN
METHOD:PUBLISH
X-WR-CALNAME:ADF 315 la Carrerada
X-ORIGINAL-URL:https://www.adflacarrerada.cat
X-WR-CALDESC:Esdeveniments per ADF 315 la Carrerada
BEGIN:VTIMEZONE
TZID:Europe/Madrid
BEGIN:DAYLIGHT
TZOFFSETFROM:+0100
TZOFFSETTO:+0200
TZNAME:CEST
DTSTART:20240331T010000
END:DAYLIGHT
BEGIN:STANDARD
TZOFFSETFROM:+0200
TZOFFSETTO:+0100
TZNAME:CET
DTSTART:20241027T010000
END:STANDARD
END:VTIMEZONE
BEGIN:VEVENT
DTSTART;TZID=Europe/Madrid:20240624T000000
DTEND;TZID=Europe/Madrid:20240624T030000
DTSTAMP:20260422T043212
CREATED:20240529T041753Z
LAST-MODIFIED:20240529T041753Z
UID:2157-1719187200-1719198000@www.adflacarrerada.cat
SUMMARY:Revetlla Sant Joan. Matinada
DESCRIPTION:Autoorgantizar-se els voluntaris disponibles. \nApuntats: \nCurrently Registered(E) Josep Jané Iniesta
URL:https://www.adflacarrerada.cat/zona-membre-calendari/revetlla-sant-joan-matinada/
END:VEVENT
END:VCALENDAR