BEGIN:VCALENDAR
VERSION:2.0
PRODID:-//ADF 315 la Carrerada - ECPv5.1.6//NONSGML v1.0//EN
CALSCALE:GREGORIAN
METHOD:PUBLISH
X-WR-CALNAME:ADF 315 la Carrerada
X-ORIGINAL-URL:https://www.adflacarrerada.cat
X-WR-CALDESC:Esdeveniments per ADF 315 la Carrerada
BEGIN:VTIMEZONE
TZID:Europe/Madrid
BEGIN:DAYLIGHT
TZOFFSETFROM:+0100
TZOFFSETTO:+0200
TZNAME:CEST
DTSTART:20230326T010000
END:DAYLIGHT
BEGIN:STANDARD
TZOFFSETFROM:+0200
TZOFFSETTO:+0100
TZNAME:CET
DTSTART:20231029T010000
END:STANDARD
END:VTIMEZONE
BEGIN:VEVENT
DTSTART;TZID=Europe/Madrid:20230623T170000
DTEND;TZID=Europe/Madrid:20230623T220000
DTSTAMP:20260426T021550
CREATED:20230529T090805Z
LAST-MODIFIED:20230529T090805Z
UID:1970-1687539600-1687557600@www.adflacarrerada.cat
SUMMARY:Sant Joan. Torn tarda/vespre
DESCRIPTION:Apuntats: \nCurrently RegisteredGerard Vicente (E) Roberto Cascales López
URL:https://www.adflacarrerada.cat/zona-membre-calendari/sant-joan-torn-tarda-vespre/
END:VEVENT
END:VCALENDAR